Package: SpaNorm Version: 1.4.0 Command: /home/biocbuild/bbs-3.22-bioc/R/bin/R CMD INSTALL SpaNorm StartedAt: 2025-11-02 16:11:27 -0500 (Sun, 02 Nov 2025) EndedAt: 2025-11-02 16:11:30 -0500 (Sun, 02 Nov 2025) EllapsedTime: 3.0 seconds RetCode: 0 Status: OK