Package: SingleCellSignalR Version: 1.99.1 Command: /home/biocbuild/bbs-3.22-bioc/R/bin/R CMD INSTALL SingleCellSignalR StartedAt: 2025-10-24 16:10:46 -0400 (Fri, 24 Oct 2025) EndedAt: 2025-10-24 16:11:35 -0400 (Fri, 24 Oct 2025) EllapsedTime: 48.8 seconds RetCode: 0 Status: OK