Package: SingleCellSignalR Version: 1.99.1 Command: /home/biocbuild/bbs-3.22-bioc/R/bin/R CMD build --keep-empty-dirs --no-resave-data --md5 SingleCellSignalR StartedAt: 2025-10-24 20:15:59 -0400 (Fri, 24 Oct 2025) EndedAt: 2025-10-24 20:17:09 -0400 (Fri, 24 Oct 2025) EllapsedTime: 70.1 seconds RetCode: 0 Status: OK PackageFile: SingleCellSignalR_1.99.1.tar.gz PackageFileSize: 175.2 KiB