Package: SingleCellSignalR Version: 2.0.0 Command: /Library/Frameworks/R.framework/Resources/bin/R CMD INSTALL SingleCellSignalR StartedAt: 2025-11-03 15:55:18 -0500 (Mon, 03 Nov 2025) EndedAt: 2025-11-03 15:56:20 -0500 (Mon, 03 Nov 2025) EllapsedTime: 61.4 seconds RetCode: 0 Status: OK