Package: SingleCellSignalR Version: 2.0.0 Command: rm -rf SingleCellSignalR.buildbin-libdir && mkdir SingleCellSignalR.buildbin-libdir && /Users/biocbuild/BBS/utils/build-universal.sh SingleCellSignalR_2.0.0.tar.gz /Library/Frameworks/R.framework/Resources/bin/R SingleCellSignalR.buildbin-libdir StartedAt: 2025-11-04 02:05:02 -0500 (Tue, 04 Nov 2025) EndedAt: 2025-11-04 02:06:10 -0500 (Tue, 04 Nov 2025) EllapsedTime: 67.9 seconds RetCode: 0 Status: OK PackageFile: SingleCellSignalR_2.0.0.tgz PackageFileSize: 483.9 KiB