Package: SingleCellSignalR Version: 2.0.0 Command: /Library/Frameworks/R.framework/Resources/bin/R CMD INSTALL SingleCellSignalR StartedAt: 2025-10-31 15:35:57 -0400 (Fri, 31 Oct 2025) EndedAt: 2025-10-31 15:36:18 -0400 (Fri, 31 Oct 2025) EllapsedTime: 20.6 seconds RetCode: 0 Status: OK