Package: SingleCellSignalR Version: 2.0.0 Command: /Library/Frameworks/R.framework/Resources/bin/R CMD build --keep-empty-dirs --no-resave-data SingleCellSignalR StartedAt: 2025-10-31 17:50:09 -0400 (Fri, 31 Oct 2025) EndedAt: 2025-10-31 17:50:41 -0400 (Fri, 31 Oct 2025) EllapsedTime: 31.4 seconds RetCode: 0 Status: OK PackageFile: SingleCellSignalR_2.0.0.tar.gz PackageFileSize: 173.8 KiB