Package: SingleCellSignalR Version: 2.0.1 Command: /Library/Frameworks/R.framework/Resources/bin/R CMD INSTALL SingleCellSignalR StartedAt: 2025-11-17 18:33:53 -0500 (Mon, 17 Nov 2025) EndedAt: 2025-11-17 18:34:11 -0500 (Mon, 17 Nov 2025) EllapsedTime: 18.4 seconds RetCode: 0 Status: OK