Package: SingleCellSignalR Version: 2.0.1 Command: /Library/Frameworks/R.framework/Resources/bin/R CMD build --keep-empty-dirs --no-resave-data SingleCellSignalR StartedAt: 2025-11-18 01:00:34 -0500 (Tue, 18 Nov 2025) EndedAt: 2025-11-18 01:01:07 -0500 (Tue, 18 Nov 2025) EllapsedTime: 32.3 seconds RetCode: 0 Status: OK PackageFile: SingleCellSignalR_2.0.1.tar.gz PackageFileSize: 173.9 KiB