Package: SingleCellSignalR Version: 2.0.1 Command: rm -rf SingleCellSignalR.buildbin-libdir && mkdir SingleCellSignalR.buildbin-libdir && /Users/biocbuild/BBS/utils/build-universal.sh SingleCellSignalR_2.0.1.tar.gz /Library/Frameworks/R.framework/Resources/bin/R SingleCellSignalR.buildbin-libdir StartedAt: 2025-11-18 16:26:19 -0500 (Tue, 18 Nov 2025) EndedAt: 2025-11-18 16:26:43 -0500 (Tue, 18 Nov 2025) EllapsedTime: 24.3 seconds RetCode: 0 Status: OK PackageFile: SingleCellSignalR_2.0.1.tgz PackageFileSize: 485 KiB