Package: SingleCellExperiment Version: 1.32.0 Command: /home/biocbuild/bbs-3.22-bioc/R/bin/R CMD INSTALL SingleCellExperiment StartedAt: 2025-11-03 15:18:44 -0500 (Mon, 03 Nov 2025) EndedAt: 2025-11-03 15:19:15 -0500 (Mon, 03 Nov 2025) EllapsedTime: 30.7 seconds RetCode: 0 Status: OK