Package: SingleCellAlleleExperiment Version: 1.6.0 Command: /home/biocbuild/bbs-3.22-bioc/R/bin/R CMD build --keep-empty-dirs --no-resave-data --md5 SingleCellAlleleExperiment StartedAt: 2025-11-04 20:10:01 -0500 (Tue, 04 Nov 2025) EndedAt: 2025-11-04 20:16:18 -0500 (Tue, 04 Nov 2025) EllapsedTime: 377.4 seconds RetCode: 0 Status: OK PackageFile: SingleCellAlleleExperiment_1.6.0.tar.gz PackageFileSize: 2.323 MiB