Package: SiPSiC Version: 1.10.0 Command: /home/biocbuild/bbs-3.22-bioc/R/bin/R CMD INSTALL SiPSiC StartedAt: 2025-11-16 15:21:42 -0500 (Sun, 16 Nov 2025) EndedAt: 2025-11-16 15:22:03 -0500 (Sun, 16 Nov 2025) EllapsedTime: 21.8 seconds RetCode: 0 Status: OK