Package: ShortRead Version: 1.68.0 Command: /home/biocbuild/bbs-3.22-bioc/R/bin/R CMD build --keep-empty-dirs --no-resave-data --md5 ShortRead StartedAt: 2025-11-17 23:30:15 -0500 (Mon, 17 Nov 2025) EndedAt: 2025-11-17 23:31:20 -0500 (Mon, 17 Nov 2025) EllapsedTime: 65.1 seconds RetCode: 0 Status: OK PackageFile: ShortRead_1.68.0.tar.gz PackageFileSize: 5.074 MiB