Package: SharedObject Version: 1.23.0 Command: /home/biocbuild/R/R/bin/R CMD INSTALL SharedObject StartedAt: 2025-10-23 20:30:21 -0000 (Thu, 23 Oct 2025) EndedAt: 2025-10-23 20:30:59 -0000 (Thu, 23 Oct 2025) EllapsedTime: 38.4 seconds RetCode: 0 Status: OK