Package: SharedObject Version: 1.23.0 Command: /home/biocbuild/R/R/bin/R CMD build --keep-empty-dirs --no-resave-data SharedObject StartedAt: 2025-10-21 03:08:43 -0000 (Tue, 21 Oct 2025) EndedAt: 2025-10-21 03:09:38 -0000 (Tue, 21 Oct 2025) EllapsedTime: 55.0 seconds RetCode: 0 Status: OK PackageFile: SharedObject_1.23.0.tar.gz PackageFileSize: 2.909 MiB