Package: SharedObject Version: 1.24.0 Command: /Library/Frameworks/R.framework/Resources/bin/R CMD build --keep-empty-dirs --no-resave-data SharedObject StartedAt: 2025-11-18 02:15:25 -0500 (Tue, 18 Nov 2025) EndedAt: 2025-11-18 02:16:48 -0500 (Tue, 18 Nov 2025) EllapsedTime: 82.4 seconds RetCode: 0 Status: OK PackageFile: SharedObject_1.24.0.tar.gz PackageFileSize: 1.897 MiB