Package: SharedObject Version: 1.24.0 Command: /Library/Frameworks/R.framework/Resources/bin/R CMD INSTALL SharedObject StartedAt: 2025-11-17 17:12:48 -0500 (Mon, 17 Nov 2025) EndedAt: 2025-11-17 17:12:58 -0500 (Mon, 17 Nov 2025) EllapsedTime: 10.2 seconds RetCode: 0 Status: OK