Package: SharedObject Version: 1.24.0 Command: /Library/Frameworks/R.framework/Resources/bin/R CMD build --keep-empty-dirs --no-resave-data SharedObject StartedAt: 2025-11-18 00:54:56 -0500 (Tue, 18 Nov 2025) EndedAt: 2025-11-18 00:55:12 -0500 (Tue, 18 Nov 2025) EllapsedTime: 15.1 seconds RetCode: 0 Status: OK PackageFile: SharedObject_1.24.0.tar.gz PackageFileSize: 1.886 MiB