Package: SharedObject Version: 1.24.0 Command: rm -rf SharedObject.buildbin-libdir && mkdir SharedObject.buildbin-libdir && /Users/biocbuild/BBS/utils/build-universal.sh SharedObject_1.24.0.tar.gz /Library/Frameworks/R.framework/Resources/bin/R SharedObject.buildbin-libdir StartedAt: 2025-11-18 16:25:05 -0500 (Tue, 18 Nov 2025) EndedAt: 2025-11-18 16:25:22 -0500 (Tue, 18 Nov 2025) EllapsedTime: 17.2 seconds RetCode: 0 Status: OK PackageFile: SharedObject_1.24.0.tgz PackageFileSize: 1.979 MiB