Package: Seqinfo Version: 1.0.0 Command: /home/biocbuild/bbs-3.22-bioc/R/bin/R CMD INSTALL Seqinfo StartedAt: 2025-11-17 17:15:00 -0500 (Mon, 17 Nov 2025) EndedAt: 2025-11-17 17:15:10 -0500 (Mon, 17 Nov 2025) EllapsedTime: 10.5 seconds RetCode: 0 Status: OK