Package: SeqSQC Version: 1.31.0 Command: /home/biocbuild/bbs-3.22-bioc/R/bin/R CMD INSTALL SeqSQC StartedAt: 2025-10-27 15:30:09 -0400 (Mon, 27 Oct 2025) EndedAt: 2025-10-27 15:30:29 -0400 (Mon, 27 Oct 2025) EllapsedTime: 20.3 seconds RetCode: 0 Status: OK