Package: SeqArray Version: 1.50.0 Command: /home/biocbuild/R/R/bin/R CMD INSTALL SeqArray StartedAt: 2025-11-17 21:22:39 -0000 (Mon, 17 Nov 2025) EndedAt: 2025-11-17 21:23:36 -0000 (Mon, 17 Nov 2025) EllapsedTime: 57.6 seconds RetCode: 0 Status: OK