Package: SeqArray Version: 1.50.0 Command: /home/biocbuild/R/R/bin/R CMD build --keep-empty-dirs --no-resave-data SeqArray StartedAt: 2025-11-18 05:03:04 -0000 (Tue, 18 Nov 2025) EndedAt: 2025-11-18 05:05:34 -0000 (Tue, 18 Nov 2025) EllapsedTime: 150.1 seconds RetCode: 0 Status: OK PackageFile: SeqArray_1.50.0.tar.gz PackageFileSize: 3.228 MiB