Package: SeqArray Version: 1.49.8 Command: /Library/Frameworks/R.framework/Resources/bin/R CMD INSTALL SeqArray StartedAt: 2025-10-24 15:25:52 -0400 (Fri, 24 Oct 2025) EndedAt: 2025-10-24 15:26:46 -0400 (Fri, 24 Oct 2025) EllapsedTime: 53.7 seconds RetCode: 0 Status: OK