Package: SeqArray Version: 1.49.8 Command: /Library/Frameworks/R.framework/Resources/bin/R CMD build --keep-empty-dirs --no-resave-data SeqArray StartedAt: 2025-10-24 18:45:23 -0400 (Fri, 24 Oct 2025) EndedAt: 2025-10-24 18:47:42 -0400 (Fri, 24 Oct 2025) EllapsedTime: 139.2 seconds RetCode: 0 Status: OK PackageFile: SeqArray_1.49.8.tar.gz PackageFileSize: 3.718 MiB