Package: SeqArray Version: 1.49.8 Command: rm -rf SeqArray.buildbin-libdir && mkdir SeqArray.buildbin-libdir && /Users/biocbuild/BBS/utils/build-universal.sh SeqArray_1.49.8.tar.gz /Library/Frameworks/R.framework/Resources/bin/R SeqArray.buildbin-libdir StartedAt: 2025-10-25 02:03:49 -0400 (Sat, 25 Oct 2025) EndedAt: 2025-10-25 02:04:46 -0400 (Sat, 25 Oct 2025) EllapsedTime: 57.5 seconds RetCode: 0 Status: OK PackageFile: SeqArray_1.49.8.tgz PackageFileSize: 4.213 MiB