Package: SeqArray Version: 1.49.9 Command: /Library/Frameworks/R.framework/Resources/bin/R CMD INSTALL SeqArray StartedAt: 2025-10-26 15:09:07 -0400 (Sun, 26 Oct 2025) EndedAt: 2025-10-26 15:09:20 -0400 (Sun, 26 Oct 2025) EllapsedTime: 12.9 seconds RetCode: 0 Status: OK