Package: SeqArray Version: 1.49.9 Command: /Library/Frameworks/R.framework/Resources/bin/R CMD build --keep-empty-dirs --no-resave-data SeqArray StartedAt: 2025-10-26 17:58:27 -0400 (Sun, 26 Oct 2025) EndedAt: 2025-10-26 17:59:21 -0400 (Sun, 26 Oct 2025) EllapsedTime: 54.6 seconds RetCode: 0 Status: OK PackageFile: SeqArray_1.49.9.tar.gz PackageFileSize: 3.662 MiB