Package: SemDist Version: 1.44.0 Command: /Library/Frameworks/R.framework/Resources/bin/R CMD INSTALL SemDist StartedAt: 2025-11-10 15:22:27 -0500 (Mon, 10 Nov 2025) EndedAt: 2025-11-10 15:22:34 -0500 (Mon, 10 Nov 2025) EllapsedTime: 6.4 seconds RetCode: 0 Status: OK