Package: ScreenR Version: 1.11.0 Command: /home/biocbuild/bbs-3.22-bioc/R/bin/R CMD build --keep-empty-dirs --no-resave-data --md5 ScreenR StartedAt: 2025-10-24 20:05:56 -0400 (Fri, 24 Oct 2025) EndedAt: 2025-10-24 20:07:05 -0400 (Fri, 24 Oct 2025) EllapsedTime: 69.0 seconds RetCode: 0 Status: OK PackageFile: ScreenR_1.11.0.tar.gz PackageFileSize: 1.872 MiB