Package: ScreenR Version: 1.12.0 Command: /Library/Frameworks/R.framework/Resources/bin/R CMD build --keep-empty-dirs --no-resave-data ScreenR StartedAt: 2025-11-03 18:42:41 -0500 (Mon, 03 Nov 2025) EndedAt: 2025-11-03 18:44:08 -0500 (Mon, 03 Nov 2025) EllapsedTime: 87.0 seconds RetCode: 0 Status: OK PackageFile: ScreenR_1.12.0.tar.gz PackageFileSize: 1.937 MiB