Package: ScreenR Version: 1.12.0 Command: rm -rf ScreenR.buildbin-libdir && mkdir ScreenR.buildbin-libdir && /Users/biocbuild/BBS/utils/build-universal.sh ScreenR_1.12.0.tar.gz /Library/Frameworks/R.framework/Resources/bin/R ScreenR.buildbin-libdir StartedAt: 2025-11-04 02:03:23 -0500 (Tue, 04 Nov 2025) EndedAt: 2025-11-04 02:03:37 -0500 (Tue, 04 Nov 2025) EllapsedTime: 13.9 seconds RetCode: 0 Status: OK PackageFile: ScreenR_1.12.0.tgz PackageFileSize: 2.094 MiB