Package: ScreenR Version: 1.12.0 Command: /Library/Frameworks/R.framework/Resources/bin/R CMD INSTALL ScreenR StartedAt: 2025-11-02 15:05:41 -0500 (Sun, 02 Nov 2025) EndedAt: 2025-11-02 15:05:44 -0500 (Sun, 02 Nov 2025) EllapsedTime: 2.9 seconds RetCode: 0 Status: OK