Package: ScreenR Version: 1.12.0 Command: /Library/Frameworks/R.framework/Resources/bin/R CMD build --keep-empty-dirs --no-resave-data ScreenR StartedAt: 2025-11-02 17:40:50 -0500 (Sun, 02 Nov 2025) EndedAt: 2025-11-02 17:41:22 -0500 (Sun, 02 Nov 2025) EllapsedTime: 32.4 seconds RetCode: 0 Status: OK PackageFile: ScreenR_1.12.0.tar.gz PackageFileSize: 1.94 MiB