Package: ScaledMatrix Version: 1.18.0 Command: /Library/Frameworks/R.framework/Resources/bin/R CMD INSTALL ScaledMatrix StartedAt: 2025-11-10 15:28:17 -0500 (Mon, 10 Nov 2025) EndedAt: 2025-11-10 15:28:25 -0500 (Mon, 10 Nov 2025) EllapsedTime: 7.2 seconds RetCode: 0 Status: OK