Package: ScaledMatrix Version: 1.18.0 Command: rm -rf ScaledMatrix.buildbin-libdir && mkdir ScaledMatrix.buildbin-libdir && /Users/biocbuild/BBS/utils/build-universal.sh ScaledMatrix_1.18.0.tar.gz /Library/Frameworks/R.framework/Resources/bin/R ScaledMatrix.buildbin-libdir StartedAt: 2025-11-10 23:35:09 -0500 (Mon, 10 Nov 2025) EndedAt: 2025-11-10 23:35:17 -0500 (Mon, 10 Nov 2025) EllapsedTime: 8.1 seconds RetCode: 0 Status: OK PackageFile: ScaledMatrix_1.18.0.tgz PackageFileSize: 605.1 KiB