Package: SVP Version: 1.2.1 Command: /home/biocbuild/bbs-3.22-bioc/R/bin/R CMD INSTALL SVP StartedAt: 2025-11-20 16:11:16 -0500 (Thu, 20 Nov 2025) EndedAt: 2025-11-20 16:14:21 -0500 (Thu, 20 Nov 2025) EllapsedTime: 184.8 seconds RetCode: 0 Status: OK