Package: SUITOR Version: 1.12.0 Command: /home/biocbuild/bbs-3.22-bioc/R/bin/R CMD INSTALL SUITOR StartedAt: 2025-11-25 15:33:50 -0500 (Tue, 25 Nov 2025) EndedAt: 2025-11-25 15:34:04 -0500 (Tue, 25 Nov 2025) EllapsedTime: 14.0 seconds RetCode: 0 Status: OK