Package: SUITOR Version: 1.12.0 Command: /home/biocbuild/bbs-3.22-bioc/R/bin/R CMD build --keep-empty-dirs --no-resave-data --md5 SUITOR StartedAt: 2025-11-25 20:53:48 -0500 (Tue, 25 Nov 2025) EndedAt: 2025-11-25 20:54:48 -0500 (Tue, 25 Nov 2025) EllapsedTime: 60.1 seconds RetCode: 0 Status: OK PackageFile: SUITOR_1.12.0.tar.gz PackageFileSize: 265.6 KiB