Package: SRAdb Version: 1.72.0 Command: /home/biocbuild/bbs-3.22-bioc/R/bin/R CMD INSTALL SRAdb StartedAt: 2025-11-17 17:11:16 -0500 (Mon, 17 Nov 2025) EndedAt: 2025-11-17 17:11:21 -0500 (Mon, 17 Nov 2025) EllapsedTime: 5.0 seconds RetCode: 0 Status: OK