Package: SQLDataFrame Version: 1.23.0 Command: /Library/Frameworks/R.framework/Resources/bin/R CMD check --install=check:SQLDataFrame.install-out.txt --library=/Library/Frameworks/R.framework/Resources/library --no-vignettes --timings SQLDataFrame_1.23.0.tar.gz StartedAt: 2025-10-28 01:07:43 -0400 (Tue, 28 Oct 2025) EndedAt: 2025-10-28 01:10:36 -0400 (Tue, 28 Oct 2025) EllapsedTime: 172.9 seconds RetCode: 1 Status: ERROR CheckDir: SQLDataFrame.Rcheck Warnings: NA