Package: SQLDataFrame Version: 1.23.0 Command: /Library/Frameworks/R.framework/Resources/bin/R CMD INSTALL SQLDataFrame StartedAt: 2025-10-26 15:08:23 -0400 (Sun, 26 Oct 2025) EndedAt: 2025-10-26 15:08:30 -0400 (Sun, 26 Oct 2025) EllapsedTime: 7.6 seconds RetCode: 0 Status: OK