Package: SQLDataFrame Version: 1.23.0 Command: /Library/Frameworks/R.framework/Resources/bin/R CMD check --install=check:SQLDataFrame.install-out.txt --library=/Library/Frameworks/R.framework/Resources/library --no-vignettes --timings SQLDataFrame_1.23.0.tar.gz StartedAt: 2025-10-26 21:58:28 -0400 (Sun, 26 Oct 2025) EndedAt: 2025-10-26 21:59:23 -0400 (Sun, 26 Oct 2025) EllapsedTime: 55.6 seconds RetCode: 1 Status: ERROR CheckDir: SQLDataFrame.Rcheck Warnings: NA