Package: SPsimSeq Version: 1.20.0 Command: /Library/Frameworks/R.framework/Resources/bin/R CMD INSTALL SPsimSeq StartedAt: 2025-11-03 15:40:11 -0500 (Mon, 03 Nov 2025) EndedAt: 2025-11-03 15:40:59 -0500 (Mon, 03 Nov 2025) EllapsedTime: 47.8 seconds RetCode: 0 Status: OK