Package: SPsimSeq Version: 1.20.0 Command: /Library/Frameworks/R.framework/Resources/bin/R CMD build --keep-empty-dirs --no-resave-data SPsimSeq StartedAt: 2025-11-03 18:58:00 -0500 (Mon, 03 Nov 2025) EndedAt: 2025-11-03 19:02:11 -0500 (Mon, 03 Nov 2025) EllapsedTime: 251.0 seconds RetCode: 0 Status: OK PackageFile: SPsimSeq_1.20.0.tar.gz PackageFileSize: 774.2 KiB