Package: SPsimSeq Version: 1.19.0 Command: /Library/Frameworks/R.framework/Resources/bin/R CMD INSTALL SPsimSeq StartedAt: 2025-10-27 15:22:52 -0400 (Mon, 27 Oct 2025) EndedAt: 2025-10-27 15:23:06 -0400 (Mon, 27 Oct 2025) EllapsedTime: 13.7 seconds RetCode: 0 Status: OK