Package: SPsimSeq Version: 1.19.0 Command: /Library/Frameworks/R.framework/Resources/bin/R CMD build --keep-empty-dirs --no-resave-data SPsimSeq StartedAt: 2025-10-27 17:52:12 -0400 (Mon, 27 Oct 2025) EndedAt: 2025-10-27 17:53:27 -0400 (Mon, 27 Oct 2025) EllapsedTime: 75.9 seconds RetCode: 0 Status: OK PackageFile: SPsimSeq_1.19.0.tar.gz PackageFileSize: 774.8 KiB