Package: SPOTlight Version: 1.13.2 Command: /home/biocbuild/bbs-3.22-bioc/R/bin/R CMD INSTALL SPOTlight StartedAt: 2025-10-24 15:30:24 -0400 (Fri, 24 Oct 2025) EndedAt: 2025-10-24 15:31:01 -0400 (Fri, 24 Oct 2025) EllapsedTime: 37.6 seconds RetCode: 0 Status: OK