Package: SPOTlight Version: 1.13.2 Command: /home/biocbuild/bbs-3.22-bioc/R/bin/R CMD build --keep-empty-dirs --no-resave-data --md5 SPOTlight StartedAt: 2025-10-24 20:27:03 -0400 (Fri, 24 Oct 2025) EndedAt: 2025-10-24 20:29:21 -0400 (Fri, 24 Oct 2025) EllapsedTime: 138.1 seconds RetCode: 0 Status: OK PackageFile: SPOTlight_1.13.2.tar.gz PackageFileSize: 4.073 MiB